Package: BiocPkgTools Version: 1.24.0 Command: /home/biocbuild/R/R/bin/R CMD check --install=check:BiocPkgTools.install-out.txt --library=/home/biocbuild/R/R/site-library --no-vignettes --timings BiocPkgTools_1.24.0.tar.gz StartedAt: 2025-01-31 04:11:58 -0000 (Fri, 31 Jan 2025) EndedAt: 2025-01-31 04:28:35 -0000 (Fri, 31 Jan 2025) EllapsedTime: 996.9 seconds RetCode: 0 Status: OK CheckDir: BiocPkgTools.Rcheck Warnings: 0