Package: BiocPkgTools Version: 1.24.0 Command: /Library/Frameworks/R.framework/Resources/bin/R CMD INSTALL BiocPkgTools StartedAt: 2025-01-27 16:42:16 -0500 (Mon, 27 Jan 2025) EndedAt: 2025-01-27 16:42:28 -0500 (Mon, 27 Jan 2025) EllapsedTime: 11.6 seconds RetCode: 0 Status: OK