Package: BiocPkgTools Version: 1.24.0 Command: /Library/Frameworks/R.framework/Resources/bin/R CMD build --keep-empty-dirs --no-resave-data BiocPkgTools StartedAt: 2025-01-27 19:36:03 -0500 (Mon, 27 Jan 2025) EndedAt: 2025-01-27 19:39:03 -0500 (Mon, 27 Jan 2025) EllapsedTime: 180.1 seconds RetCode: 0 Status: OK PackageFile: BiocPkgTools_1.24.0.tar.gz PackageFileSize: 1.442 MiB