Package: BiocParallel Version: 1.40.0 Command: /home/biocbuild/R/R/bin/R CMD INSTALL BiocParallel StartedAt: 2025-01-27 21:16:07 -0000 (Mon, 27 Jan 2025) EndedAt: 2025-01-27 21:16:34 -0000 (Mon, 27 Jan 2025) EllapsedTime: 27.1 seconds RetCode: 0 Status: OK