Package: BiocParallel Version: 1.40.0 Command: F:\biocbuild\bbs-3.20-bioc\R\bin\R.exe CMD INSTALL BiocParallel StartedAt: 2025-02-03 15:47:17 -0500 (Mon, 03 Feb 2025) EndedAt: 2025-02-03 15:51:57 -0500 (Mon, 03 Feb 2025) EllapsedTime: 280.6 seconds RetCode: 0 Status: OK