Package: BiocParallel Version: 1.40.1 Command: chmod a+r BiocParallel -R && F:\biocbuild\bbs-3.20-bioc\R\bin\R.exe CMD build --keep-empty-dirs --no-resave-data BiocParallel StartedAt: 2025-03-31 17:37:08 -0400 (Mon, 31 Mar 2025) EndedAt: 2025-03-31 17:37:21 -0400 (Mon, 31 Mar 2025) EllapsedTime: 13.3 seconds RetCode: 1 Status: ERROR PackageFile: None PackageFileSize: NA