Package: BiocParallel Version: 1.40.0 Command: rm -rf BiocParallel.buildbin-libdir && mkdir BiocParallel.buildbin-libdir && F:\biocbuild\bbs-3.20-bioc\R\bin\R.exe CMD INSTALL --build --library=BiocParallel.buildbin-libdir BiocParallel_1.40.0.tar.gz StartedAt: 2025-03-28 07:58:17 -0400 (Fri, 28 Mar 2025) EndedAt: 2025-03-28 08:01:50 -0400 (Fri, 28 Mar 2025) EllapsedTime: 213.5 seconds RetCode: 0 Status: OK PackageFile: BiocParallel_1.40.0.zip PackageFileSize: 1.86 MiB