Package: BiocParallel Version: 1.40.0 Command: /home/biocbuild/bbs-3.20-bioc/R/bin/R CMD INSTALL BiocParallel StartedAt: 2025-02-03 15:27:00 -0500 (Mon, 03 Feb 2025) EndedAt: 2025-02-03 15:27:14 -0500 (Mon, 03 Feb 2025) EllapsedTime: 14.0 seconds RetCode: 0 Status: OK