Package: BiocParallel Version: 1.40.1 Command: /home/biocbuild/bbs-3.20-bioc/R/bin/R CMD build --keep-empty-dirs --no-resave-data --md5 BiocParallel StartedAt: 2025-03-31 16:23:21 -0400 (Mon, 31 Mar 2025) EndedAt: 2025-03-31 16:25:17 -0400 (Mon, 31 Mar 2025) EllapsedTime: 115.2 seconds RetCode: 0 Status: OK PackageFile: BiocParallel_1.40.1.tar.gz PackageFileSize: 1013 KiB