Package: BiocParallel Version: 1.40.1 Command: /Library/Frameworks/R.framework/Resources/bin/R CMD INSTALL BiocParallel StartedAt: 2025-03-31 15:48:31 -0400 (Mon, 31 Mar 2025) EndedAt: 2025-03-31 15:48:52 -0400 (Mon, 31 Mar 2025) EllapsedTime: 20.7 seconds RetCode: 0 Status: OK