Package: BiocParallel Version: 1.40.1 Command: /Library/Frameworks/R.framework/Resources/bin/R CMD build --keep-empty-dirs --no-resave-data BiocParallel StartedAt: 2025-03-31 19:28:59 -0400 (Mon, 31 Mar 2025) EndedAt: 2025-03-31 19:31:36 -0400 (Mon, 31 Mar 2025) EllapsedTime: 156.7 seconds RetCode: 0 Status: OK PackageFile: BiocParallel_1.40.1.tar.gz PackageFileSize: 1008 KiB