Package: BiocNeighbors Version: 2.0.1 Command: /home/biocbuild/R/R/bin/R CMD check --install=check:BiocNeighbors.install-out.txt --library=/home/biocbuild/R/R/site-library --no-vignettes --timings BiocNeighbors_2.0.1.tar.gz StartedAt: 2025-04-01 04:16:08 -0000 (Tue, 01 Apr 2025) EndedAt: 2025-04-01 04:16:50 -0000 (Tue, 01 Apr 2025) EllapsedTime: 42.1 seconds RetCode: 0 Status: OK CheckDir: BiocNeighbors.Rcheck Warnings: 0