Package: BiocNeighbors Version: 2.0.1 Command: F:\biocbuild\bbs-3.20-bioc\R\bin\R.exe CMD check --no-multiarch --install=check:BiocNeighbors.install-out.txt --library=F:\biocbuild\bbs-3.20-bioc\R\library --no-vignettes --timings BiocNeighbors_2.0.1.tar.gz StartedAt: 2025-01-27 23:19:59 -0500 (Mon, 27 Jan 2025) EndedAt: 2025-01-27 23:21:07 -0500 (Mon, 27 Jan 2025) EllapsedTime: 68.6 seconds RetCode: 0 Status: WARNINGS CheckDir: BiocNeighbors.Rcheck Warnings: 1