Package: BiocNeighbors Version: 2.0.1 Command: /home/biocbuild/bbs-3.20-bioc/R/bin/R CMD INSTALL BiocNeighbors StartedAt: 2025-03-31 15:09:58 -0400 (Mon, 31 Mar 2025) EndedAt: 2025-03-31 15:10:39 -0400 (Mon, 31 Mar 2025) EllapsedTime: 41.5 seconds RetCode: 0 Status: OK