Package: BiocNeighbors Version: 2.0.1 Command: /home/biocbuild/bbs-3.20-bioc/R/bin/R CMD check --install=check:BiocNeighbors.install-out.txt --library=/home/biocbuild/bbs-3.20-bioc/R/site-library --timings BiocNeighbors_2.0.1.tar.gz StartedAt: 2025-01-27 21:10:07 -0500 (Mon, 27 Jan 2025) EndedAt: 2025-01-27 21:10:41 -0500 (Mon, 27 Jan 2025) EllapsedTime: 34.0 seconds RetCode: 0 Status: OK CheckDir: BiocNeighbors.Rcheck Warnings: 0