Package: BiocNeighbors Version: 2.0.1 Command: /home/biocbuild/bbs-3.20-bioc/R/bin/R CMD build --keep-empty-dirs --no-resave-data --md5 BiocNeighbors StartedAt: 2025-01-27 17:18:51 -0500 (Mon, 27 Jan 2025) EndedAt: 2025-01-27 17:19:40 -0500 (Mon, 27 Jan 2025) EllapsedTime: 49.1 seconds RetCode: 0 Status: OK PackageFile: BiocNeighbors_2.0.1.tar.gz PackageFileSize: 331 KiB