Package: BiocHubsShiny Version: 1.6.2 Command: /home/biocbuild/R/R/bin/R CMD INSTALL BiocHubsShiny StartedAt: 2025-02-10 20:48:03 -0000 (Mon, 10 Feb 2025) EndedAt: 2025-02-10 20:48:24 -0000 (Mon, 10 Feb 2025) EllapsedTime: 21.0 seconds RetCode: 0 Status: OK