Package: BiocHubsShiny Version: 1.6.2 Command: /home/biocbuild/R/R/bin/R CMD check --install=check:BiocHubsShiny.install-out.txt --library=/home/biocbuild/R/R/site-library --no-vignettes --timings BiocHubsShiny_1.6.2.tar.gz StartedAt: 2025-02-04 04:49:04 -0000 (Tue, 04 Feb 2025) EndedAt: 2025-02-04 04:52:26 -0000 (Tue, 04 Feb 2025) EllapsedTime: 202.5 seconds RetCode: 0 Status: OK CheckDir: BiocHubsShiny.Rcheck Warnings: 0