Package: BiocHubsShiny Version: 1.6.2 Command: /home/biocbuild/R/R/bin/R CMD build --keep-empty-dirs --no-resave-data BiocHubsShiny StartedAt: 2025-02-10 21:45:37 -0000 (Mon, 10 Feb 2025) EndedAt: 2025-02-10 21:46:03 -0000 (Mon, 10 Feb 2025) EllapsedTime: 26.0 seconds RetCode: 0 Status: OK PackageFile: BiocHubsShiny_1.6.2.tar.gz PackageFileSize: 1.628 MiB