Package: BiocHubsShiny Version: 1.6.2 Command: /Library/Frameworks/R.framework/Resources/bin/R CMD build --keep-empty-dirs --no-resave-data BiocHubsShiny StartedAt: 2025-01-27 19:33:59 -0500 (Mon, 27 Jan 2025) EndedAt: 2025-01-27 19:34:25 -0500 (Mon, 27 Jan 2025) EllapsedTime: 26.1 seconds RetCode: 0 Status: OK PackageFile: BiocHubsShiny_1.6.2.tar.gz PackageFileSize: 1.603 MiB