Package: BiocHubsShiny Version: 1.6.2 Command: rm -rf BiocHubsShiny.buildbin-libdir && mkdir BiocHubsShiny.buildbin-libdir && /Users/biocbuild/BBS/utils/build-universal.sh BiocHubsShiny_1.6.2.tar.gz /Library/Frameworks/R.framework/Resources/bin/R BiocHubsShiny.buildbin-libdir StartedAt: 2025-02-05 14:58:29 -0500 (Wed, 05 Feb 2025) EndedAt: 2025-02-05 14:58:49 -0500 (Wed, 05 Feb 2025) EllapsedTime: 19.5 seconds RetCode: 0 Status: OK PackageFile: BiocHubsShiny_1.6.2.tgz PackageFileSize: 740.6 KiB