Package: BiocHubsShiny Version: 1.6.2 Maintainer: Marcel Ramos MaintainerEmail: marcel.ramos at sph.cuny.edu git_url: https://git.bioconductor.org/packages/BiocHubsShiny git_branch: RELEASE_3_20 git_last_commit: 8ebeb33 git_last_commit_date: 2025-01-24 12:08:25 -0500 (Fri, 24 Jan 2025)