Package: BiocGenerics Version: 0.52.0 Command: F:\biocbuild\bbs-3.20-bioc\R\bin\R.exe CMD INSTALL BiocGenerics StartedAt: 2025-03-31 15:20:59 -0400 (Mon, 31 Mar 2025) EndedAt: 2025-03-31 15:22:48 -0400 (Mon, 31 Mar 2025) EllapsedTime: 109.6 seconds RetCode: 0 Status: OK