Package: BiocGenerics Version: 0.52.0 Command: /home/biocbuild/bbs-3.20-bioc/R/bin/R CMD INSTALL BiocGenerics StartedAt: 2025-03-31 15:08:49 -0400 (Mon, 31 Mar 2025) EndedAt: 2025-03-31 15:08:54 -0400 (Mon, 31 Mar 2025) EllapsedTime: 4.8 seconds RetCode: 0 Status: OK