Package: BiocFileCache Version: 2.14.0 Command: /home/biocbuild/R/R/bin/R CMD INSTALL BiocFileCache StartedAt: 2025-03-31 20:25:02 -0000 (Mon, 31 Mar 2025) EndedAt: 2025-03-31 20:25:13 -0000 (Mon, 31 Mar 2025) EllapsedTime: 10.6 seconds RetCode: 0 Status: OK