Package: BiocFileCache Version: 2.14.0 Command: /home/biocbuild/R/R/bin/R CMD check --install=check:BiocFileCache.install-out.txt --library=/home/biocbuild/R/R/site-library --no-vignettes --timings BiocFileCache_2.14.0.tar.gz StartedAt: 2025-01-31 04:11:04 -0000 (Fri, 31 Jan 2025) EndedAt: 2025-01-31 04:13:07 -0000 (Fri, 31 Jan 2025) EllapsedTime: 123.3 seconds RetCode: 0 Status: OK CheckDir: BiocFileCache.Rcheck Warnings: 0