Package: BiocFileCache Version: 2.14.0 Command: F:\biocbuild\bbs-3.20-bioc\R\bin\R.exe CMD INSTALL BiocFileCache StartedAt: 2025-01-27 15:46:42 -0500 (Mon, 27 Jan 2025) EndedAt: 2025-01-27 15:47:52 -0500 (Mon, 27 Jan 2025) EllapsedTime: 70.4 seconds RetCode: 0 Status: OK