Package: BiocFileCache Version: 2.14.0 Command: F:\biocbuild\bbs-3.20-bioc\R\bin\R.exe CMD check --no-multiarch --install=check:BiocFileCache.install-out.txt --library=F:\biocbuild\bbs-3.20-bioc\R\library --no-vignettes --timings BiocFileCache_2.14.0.tar.gz StartedAt: 2025-03-31 23:17:36 -0400 (Mon, 31 Mar 2025) EndedAt: 2025-03-31 23:19:16 -0400 (Mon, 31 Mar 2025) EllapsedTime: 100.7 seconds RetCode: 0 Status: OK CheckDir: BiocFileCache.Rcheck Warnings: 0