Package: BiocFileCache Version: 2.14.0 Command: /Library/Frameworks/R.framework/Resources/bin/R CMD INSTALL BiocFileCache StartedAt: 2025-01-30 15:27:03 -0500 (Thu, 30 Jan 2025) EndedAt: 2025-01-30 15:27:21 -0500 (Thu, 30 Jan 2025) EllapsedTime: 18.3 seconds RetCode: 0 Status: OK