Package: BiocFileCache Version: 2.14.0 Command: rm -rf BiocFileCache.buildbin-libdir && mkdir BiocFileCache.buildbin-libdir && /Users/biocbuild/BBS/utils/build-universal.sh BiocFileCache_2.14.0.tar.gz /Library/Frameworks/R.framework/Resources/bin/R BiocFileCache.buildbin-libdir StartedAt: 2025-01-29 13:47:38 -0500 (Wed, 29 Jan 2025) EndedAt: 2025-01-29 13:47:48 -0500 (Wed, 29 Jan 2025) EllapsedTime: 10.1 seconds RetCode: 0 Status: OK PackageFile: BiocFileCache_2.14.0.tgz PackageFileSize: 944.8 KiB