Package: BiocFHIR Version: 1.8.0 Command: /home/biocbuild/R/R/bin/R CMD build --keep-empty-dirs --no-resave-data BiocFHIR StartedAt: 2025-02-10 21:45:10 -0000 (Mon, 10 Feb 2025) EndedAt: 2025-02-10 21:45:52 -0000 (Mon, 10 Feb 2025) EllapsedTime: 42.0 seconds RetCode: 0 Status: OK PackageFile: BiocFHIR_1.8.0.tar.gz PackageFileSize: 4.597 MiB