Package: BiocFHIR Version: 1.8.0 Command: chmod a+r BiocFHIR -R && F:\biocbuild\bbs-3.20-bioc\R\bin\R.exe CMD build --keep-empty-dirs --no-resave-data BiocFHIR StartedAt: 2025-02-10 17:38:53 -0500 (Mon, 10 Feb 2025) EndedAt: 2025-02-10 17:40:01 -0500 (Mon, 10 Feb 2025) EllapsedTime: 68.7 seconds RetCode: 0 Status: OK PackageFile: BiocFHIR_1.8.0.tar.gz PackageFileSize: 4.291 MiB