Package: BiocFHIR Version: 1.8.0 Command: rm -rf BiocFHIR.buildbin-libdir && mkdir BiocFHIR.buildbin-libdir && F:\biocbuild\bbs-3.20-bioc\R\bin\R.exe CMD INSTALL --build --library=BiocFHIR.buildbin-libdir BiocFHIR_1.8.0.tar.gz StartedAt: 2025-02-11 07:59:17 -0500 (Tue, 11 Feb 2025) EndedAt: 2025-02-11 07:59:56 -0500 (Tue, 11 Feb 2025) EllapsedTime: 38.5 seconds RetCode: 0 Status: OK PackageFile: BiocFHIR_1.8.0.zip PackageFileSize: 4.295 MiB