Package: BiocFHIR Version: 1.8.0 Command: /Library/Frameworks/R.framework/Resources/bin/R CMD INSTALL BiocFHIR StartedAt: 2025-02-10 16:40:35 -0500 (Mon, 10 Feb 2025) EndedAt: 2025-02-10 16:40:42 -0500 (Mon, 10 Feb 2025) EllapsedTime: 6.9 seconds RetCode: 0 Status: OK