Package: BiocFHIR Version: 1.8.0 Command: /Library/Frameworks/R.framework/Resources/bin/R CMD check --install=check:BiocFHIR.install-out.txt --library=/Library/Frameworks/R.framework/Resources/library --no-vignettes --timings BiocFHIR_1.8.0.tar.gz StartedAt: 2025-02-11 12:27:15 -0500 (Tue, 11 Feb 2025) EndedAt: 2025-02-11 12:28:41 -0500 (Tue, 11 Feb 2025) EllapsedTime: 85.7 seconds RetCode: 0 Status: OK CheckDir: BiocFHIR.Rcheck Warnings: 0