Package: BiocFHIR Version: 1.8.0 Command: /Library/Frameworks/R.framework/Resources/bin/R CMD build --keep-empty-dirs --no-resave-data BiocFHIR StartedAt: 2025-02-10 19:38:40 -0500 (Mon, 10 Feb 2025) EndedAt: 2025-02-10 19:39:20 -0500 (Mon, 10 Feb 2025) EllapsedTime: 39.9 seconds RetCode: 0 Status: OK PackageFile: BiocFHIR_1.8.0.tar.gz PackageFileSize: 4.288 MiB