Package: BiocFHIR Version: 1.8.0 Command: rm -rf BiocFHIR.buildbin-libdir && mkdir BiocFHIR.buildbin-libdir && /Users/biocbuild/BBS/utils/build-universal.sh BiocFHIR_1.8.0.tar.gz /Library/Frameworks/R.framework/Resources/bin/R BiocFHIR.buildbin-libdir StartedAt: 2025-02-12 14:12:33 -0500 (Wed, 12 Feb 2025) EndedAt: 2025-02-12 14:12:42 -0500 (Wed, 12 Feb 2025) EllapsedTime: 9.2 seconds RetCode: 0 Status: OK PackageFile: BiocFHIR_1.8.0.tgz PackageFileSize: 4.292 MiB