Package: BiocCheck Version: 1.42.1 Command: /home/biocbuild/R/R/bin/R CMD INSTALL BiocCheck StartedAt: 2025-02-03 20:35:18 -0000 (Mon, 03 Feb 2025) EndedAt: 2025-02-03 20:35:32 -0000 (Mon, 03 Feb 2025) EllapsedTime: 14.2 seconds RetCode: 0 Status: OK