Package: BiocCheck Version: 1.42.1 Command: /home/biocbuild/R/R/bin/R CMD check --install=check:BiocCheck.install-out.txt --library=/home/biocbuild/R/R/site-library --no-vignettes --timings BiocCheck_1.42.1.tar.gz StartedAt: 2025-02-04 04:48:22 -0000 (Tue, 04 Feb 2025) EndedAt: 2025-02-04 05:07:10 -0000 (Tue, 04 Feb 2025) EllapsedTime: 1127.3 seconds RetCode: 0 Status: OK CheckDir: BiocCheck.Rcheck Warnings: 0