Package: BiocCheck Version: 1.42.1 Command: /home/biocbuild/R/R/bin/R CMD build --keep-empty-dirs --no-resave-data BiocCheck StartedAt: 2025-02-03 22:00:23 -0000 (Mon, 03 Feb 2025) EndedAt: 2025-02-03 22:00:41 -0000 (Mon, 03 Feb 2025) EllapsedTime: 18.0 seconds RetCode: 0 Status: OK PackageFile: BiocCheck_1.42.1.tar.gz PackageFileSize: 331.8 KiB