Package: BiocCheck Version: 1.42.1 Command: rm -rf BiocCheck.buildbin-libdir && mkdir BiocCheck.buildbin-libdir && F:\biocbuild\bbs-3.20-bioc\R\bin\R.exe CMD INSTALL --build --library=BiocCheck.buildbin-libdir BiocCheck_1.42.1.tar.gz StartedAt: 2025-02-04 08:02:52 -0500 (Tue, 04 Feb 2025) EndedAt: 2025-02-04 08:03:53 -0500 (Tue, 04 Feb 2025) EllapsedTime: 61.4 seconds RetCode: 0 Status: OK PackageFile: BiocCheck_1.42.1.zip PackageFileSize: 650.9 KiB