Package: BiocCheck Version: 1.42.1 Command: /Library/Frameworks/R.framework/Resources/bin/R CMD build --keep-empty-dirs --no-resave-data BiocCheck StartedAt: 2025-01-27 17:20:53 -0500 (Mon, 27 Jan 2025) EndedAt: 2025-01-27 17:21:33 -0500 (Mon, 27 Jan 2025) EllapsedTime: 40.7 seconds RetCode: 0 Status: OK PackageFile: BiocCheck_1.42.1.tar.gz PackageFileSize: 307.4 KiB