Package: BiocBook Version: 1.4.0 Command: /home/biocbuild/R/R/bin/R CMD INSTALL BiocBook StartedAt: 2025-03-31 20:42:37 -0000 (Mon, 31 Mar 2025) EndedAt: 2025-03-31 20:42:45 -0000 (Mon, 31 Mar 2025) EllapsedTime: 8.0 seconds RetCode: 0 Status: OK