Package: BiocBook Version: 1.4.0 Command: /home/biocbuild/R/R/bin/R CMD check --install=check:BiocBook.install-out.txt --library=/home/biocbuild/R/R/site-library --no-vignettes --timings BiocBook_1.4.0.tar.gz StartedAt: 2025-01-28 04:56:34 -0000 (Tue, 28 Jan 2025) EndedAt: 2025-01-28 04:59:39 -0000 (Tue, 28 Jan 2025) EllapsedTime: 185.3 seconds RetCode: 0 Status: OK CheckDir: BiocBook.Rcheck Warnings: 0