Package: BiocBook Version: 1.4.0 Command: F:\biocbuild\bbs-3.20-bioc\R\bin\R.exe CMD check --no-multiarch --install=check:BiocBook.install-out.txt --library=F:\biocbuild\bbs-3.20-bioc\R\library --no-vignettes --timings BiocBook_1.4.0.tar.gz StartedAt: 2025-01-27 23:18:21 -0500 (Mon, 27 Jan 2025) EndedAt: 2025-01-27 23:20:38 -0500 (Mon, 27 Jan 2025) EllapsedTime: 137.2 seconds RetCode: 1 Status: ERROR CheckDir: BiocBook.Rcheck Warnings: NA