Package: BiocBook Version: 1.4.0 Command: /Library/Frameworks/R.framework/Resources/bin/R CMD INSTALL BiocBook StartedAt: 2025-03-31 15:51:09 -0400 (Mon, 31 Mar 2025) EndedAt: 2025-03-31 15:51:23 -0400 (Mon, 31 Mar 2025) EllapsedTime: 13.4 seconds RetCode: 0 Status: OK