Package: BiocBook Version: 1.4.0 Command: rm -rf BiocBook.buildbin-libdir && mkdir BiocBook.buildbin-libdir && /Users/biocbuild/BBS/utils/build-universal.sh BiocBook_1.4.0.tar.gz /Library/Frameworks/R.framework/Resources/bin/R BiocBook.buildbin-libdir StartedAt: 2025-04-01 11:28:50 -0400 (Tue, 01 Apr 2025) EndedAt: 2025-04-01 11:29:05 -0400 (Tue, 01 Apr 2025) EllapsedTime: 15.2 seconds RetCode: 0 Status: OK PackageFile: BiocBook_1.4.0.tgz PackageFileSize: 1.025 MiB