Package: Biobase Version: 2.66.0 Command: /home/biocbuild/R/R/bin/R CMD check --install=check:Biobase.install-out.txt --library=/home/biocbuild/R/R/site-library --no-vignettes --timings Biobase_2.66.0.tar.gz StartedAt: 2025-01-28 04:54:50 -0000 (Tue, 28 Jan 2025) EndedAt: 2025-01-28 04:56:14 -0000 (Tue, 28 Jan 2025) EllapsedTime: 84.1 seconds RetCode: 0 Status: OK CheckDir: Biobase.Rcheck Warnings: 0