Package: Biobase Version: 2.66.0 Command: rm -rf Biobase.buildbin-libdir && mkdir Biobase.buildbin-libdir && F:\biocbuild\bbs-3.20-bioc\R\bin\R.exe CMD INSTALL --build --library=Biobase.buildbin-libdir Biobase_2.66.0.tar.gz StartedAt: 2025-02-04 08:02:30 -0500 (Tue, 04 Feb 2025) EndedAt: 2025-02-04 08:04:43 -0500 (Tue, 04 Feb 2025) EllapsedTime: 132.7 seconds RetCode: 0 Status: OK PackageFile: Biobase_2.66.0.zip PackageFileSize: 2.361 MiB