Package: BioQC Version: 1.34.0 Command: rm -rf BioQC.buildbin-libdir && mkdir BioQC.buildbin-libdir && F:\biocbuild\bbs-3.20-bioc\R\bin\R.exe CMD INSTALL --build --library=BioQC.buildbin-libdir BioQC_1.34.0.tar.gz StartedAt: 2025-01-28 07:45:13 -0500 (Tue, 28 Jan 2025) EndedAt: 2025-01-28 07:45:58 -0500 (Tue, 28 Jan 2025) EllapsedTime: 45.6 seconds RetCode: 0 Status: OK PackageFile: BioQC_1.34.0.zip PackageFileSize: 4.448 MiB